BEGIN:VCALENDAR
VERSION:2.0
PRODID:-//BIO AUSTRIA - ECPv6.15.20//NONSGML v1.0//EN
CALSCALE:GREGORIAN
METHOD:PUBLISH
X-WR-CALNAME:BIO AUSTRIA
X-ORIGINAL-URL:https://www.bio-austria.at
X-WR-CALDESC:Veranstaltungen für BIO AUSTRIA
REFRESH-INTERVAL;VALUE=DURATION:PT1H
X-Robots-Tag:noindex
X-PUBLISHED-TTL:PT1H
BEGIN:VTIMEZONE
TZID:Europe/Vienna
BEGIN:DAYLIGHT
TZOFFSETFROM:+0100
TZOFFSETTO:+0200
TZNAME:CEST
DTSTART:20240331T010000
END:DAYLIGHT
BEGIN:STANDARD
TZOFFSETFROM:+0200
TZOFFSETTO:+0100
TZNAME:CET
DTSTART:20241027T010000
END:STANDARD
BEGIN:DAYLIGHT
TZOFFSETFROM:+0100
TZOFFSETTO:+0200
TZNAME:CEST
DTSTART:20250330T010000
END:DAYLIGHT
BEGIN:STANDARD
TZOFFSETFROM:+0200
TZOFFSETTO:+0100
TZNAME:CET
DTSTART:20251026T010000
END:STANDARD
BEGIN:DAYLIGHT
TZOFFSETFROM:+0100
TZOFFSETTO:+0200
TZNAME:CEST
DTSTART:20260329T010000
END:DAYLIGHT
BEGIN:STANDARD
TZOFFSETFROM:+0200
TZOFFSETTO:+0100
TZNAME:CET
DTSTART:20261025T010000
END:STANDARD
END:VTIMEZONE
BEGIN:VEVENT
DTSTART;TZID=Europe/Vienna:20251011T090000
DTEND;TZID=Europe/Vienna:20251122T143000
DTSTAMP:20260426T061628
CREATED:20250508T073303Z
LAST-MODIFIED:20250904T093136Z
UID:466282-1760173200-1763821800@www.bio-austria.at
SUMMARY:Workshop Deine Pilzzucht für Zuhause
DESCRIPTION:In diesem Kurs lernst du alles\, um frische Pilze bei dir im Haus oder Garten zu züchten. Wir beschäftigen uns unter anderem mit der Anlage von Pilzbeeten und der Pilzzucht auf Baumstämmen und Strohballen. Du erfährst außerdem viel über die spannende Welt der Pilze und wieso Pilze für eine gesunde und ausgewogene Ernährung so wichtig sind.  \n\n\n\n \n\n\n\nReferent: Sebastian Reindl \n\n\n\nPreis: \n\n\n\n219 € inkl. Unterlagen\, Getränke u. Snacks. \n\n\n\n \n\n\n\nTermine: \n\n\n\n\n11.10.2025\n\n\n\n22.11.2025\n\n\n\n\n\nInfos & Anmeldung
URL:https://www.bio-austria.at/v/konsument/kurs-pilzzucht-fuer-haus-garten/
LOCATION:Reindl Sebastian\, Stoffngut\, Schleedorf\, 5205\, Austria
ATTACH;FMTTYPE=image/jpeg:https://www.bio-austria.at/app/uploads/Schaubauernhof-Logo.jpg
END:VEVENT
END:VCALENDAR