BEGIN:VCALENDAR
VERSION:2.0
PRODID:-//BIO AUSTRIA - ECPv6.15.20//NONSGML v1.0//EN
CALSCALE:GREGORIAN
METHOD:PUBLISH
X-WR-CALNAME:BIO AUSTRIA
X-ORIGINAL-URL:https://www.bio-austria.at
X-WR-CALDESC:Veranstaltungen für BIO AUSTRIA
REFRESH-INTERVAL;VALUE=DURATION:PT1H
X-Robots-Tag:noindex
X-PUBLISHED-TTL:PT1H
BEGIN:VTIMEZONE
TZID:Europe/Vienna
BEGIN:DAYLIGHT
TZOFFSETFROM:+0100
TZOFFSETTO:+0200
TZNAME:CEST
DTSTART:20240331T010000
END:DAYLIGHT
BEGIN:STANDARD
TZOFFSETFROM:+0200
TZOFFSETTO:+0100
TZNAME:CET
DTSTART:20241027T010000
END:STANDARD
BEGIN:DAYLIGHT
TZOFFSETFROM:+0100
TZOFFSETTO:+0200
TZNAME:CEST
DTSTART:20250330T010000
END:DAYLIGHT
BEGIN:STANDARD
TZOFFSETFROM:+0200
TZOFFSETTO:+0100
TZNAME:CET
DTSTART:20251026T010000
END:STANDARD
BEGIN:DAYLIGHT
TZOFFSETFROM:+0100
TZOFFSETTO:+0200
TZNAME:CEST
DTSTART:20260329T010000
END:DAYLIGHT
BEGIN:STANDARD
TZOFFSETFROM:+0200
TZOFFSETTO:+0100
TZNAME:CET
DTSTART:20261025T010000
END:STANDARD
END:VTIMEZONE
BEGIN:VEVENT
DTSTART;TZID=Europe/Vienna:20251018T160000
DTEND;TZID=Europe/Vienna:20251019T220000
DTSTAMP:20260422T203437
CREATED:20251014T083351Z
LAST-MODIFIED:20251014T083635Z
UID:477220-1760803200-1760911200@www.bio-austria.at
SUMMARY:Lehners faire Wirtschaft ist zurück - in der Summakuchl in Gols!
DESCRIPTION:Sie sind wieder da – für zwei besondere Tage\n\n\n\nAm 18. und 19. Oktober 2025 bringt Familie Lehner ein Stück Lehners faire Wirtschaft zurück in die Summakuchl Gols. Sie freuen sich riesig\, viele vertraute Gesichter wiederzusehen – und heißen natürlich auch alle neuen Gäste herzlich willkommen! Ihre Idee von ehrlichem Genuss\, Regionalität und Gastlichkeit darf an diesen beiden Tagen neu aufleben. Mit viel Liebe gekocht\, mit Freude serviert – genau so\, wie sie es zuvor gemacht haben. \n\n\n\nKommt vorbei\, genießt und stoßt mit Familie Lehner an! Sie können es kaum erwarten\, euch willkommen zu heißen!
URL:https://www.bio-austria.at/v/konsument/lehners-faire-wirtschaft-ist-zurueck-in-der-summakuchl-in-gols/
LOCATION:Summakuchl Gols\, Hauptplatz 32\, Gols\, 7122
ATTACH;FMTTYPE=image/png:https://www.bio-austria.at/app/uploads/2025/10/bildschirmfoto-2025-10-14-um-095757.png
ORGANIZER;CN="BioWeinGut Lehner":MAILTO:willkommen@bioweingutlehner.at
END:VEVENT
END:VCALENDAR